BEGIN:VCALENDAR
VERSION:2.0
PRODID:-//stagingindexsaudi.wpress.dk//NONSGML INDEX Saudi//EN
METHOD:REQUEST
BEGIN:VEVENT
UID:20260422T113956-734129567-calendar_event
DTSTAMP:20260422T113956Z
DTSTART:20210907T090000
DTEND:20210909T200000
LOCATION:Riyadh Front
SUMMARY:INDEX Saudi
DESCRIPTION:CONNECT WITH SAUDI ARABIA’S INTERIOR DESIGN AND FIT-OUT COMMUNITY Visit www.index-saudi.com for the latest exhibitor list & agendas INDEX Saudi has established itself as an essential trade exhibition, enabling suppliers to access Saudi Arabia’s $3.5 billion interior projects market, and for buyers to source from a global variety of brands and companies. Welcoming 10,000 interior designers, procurement specialists, distributors and hoteliers from 7-9 September 2021 at Riyadh Front to source furniture, furnishings, lighting, textiles, surface materials and decorative products from a wide range of global brands, the event allows companies to make new business connections establish a presence in the Kingdom. The event is run by dmg events, organisers of INDEX Dubai and The Big 5 and will run alongside The Hotel Show Saudi Arabia, taking place at an essential time for exceptional live in-person events that support economic growth and recovery. With the health, safety and wellbeing at the forefront of a restart for events, INDEX Saudi will be following the dmg events All Secure protocol. This means it will be reinforced by a four-point framework designed to protect exhibitors, visitors, delegates and contractors. The programme of enhanced measures will ensure the health and wellbeing of the participants is prioritized and provide reassurances to all who visit our events, that they are in a safe environment.
BEGIN:VALARM
TRIGGER:PT1W
ACTION:DISPLAY
DESCRIPTION:Reminder
END:VALARM
END:VEVENT
END:VCALENDAR
